BEGIN:VCALENDAR
VERSION:2.0
PRODID:-//hacksw/handcal//NONSGML v1.0//EN
BEGIN:VEVENT
DTSTART:20260426
DTEND:20260427
LOCATION:ville-cernay
SUMMARY:CINÉMA SENIORS AVEC LA PASSERELLE DES AÎNÉS
DESCRIPTION:https://www.ville-cernay.fr/Agenda/CINEMA-SENIORS-PASSERELLE-AINES-00584.html
END:VEVENT
END:VCALENDAR